BEGIN:VCALENDAR
VERSION:2.0
PRODID:-//The Sustainable Computing Lab - ECPv6.0.11//NONSGML v1.0//EN
CALSCALE:GREGORIAN
METHOD:PUBLISH
X-WR-CALNAME:The Sustainable Computing Lab
X-ORIGINAL-URL:https://www.sustainablecomputing.eu
X-WR-CALDESC:Events for The Sustainable Computing Lab
REFRESH-INTERVAL;VALUE=DURATION:PT1H
X-Robots-Tag:noindex
X-PUBLISHED-TTL:PT1H
BEGIN:VTIMEZONE
TZID:UTC
BEGIN:STANDARD
TZOFFSETFROM:+0000
TZOFFSETTO:+0000
TZNAME:UTC
DTSTART:20160101T000000
END:STANDARD
END:VTIMEZONE
BEGIN:VEVENT
DTSTART;TZID=UTC:20171120T110000
DTEND;TZID=UTC:20171120T120000
DTSTAMP:20260425T132442
CREATED:20171113T162832Z
LAST-MODIFIED:20171113T162832Z
UID:4427-1511175600-1511179200@www.sustainablecomputing.eu
SUMMARY:Sabrina Kirrane: Status Update on SPECIAL
DESCRIPTION:
URL:https://www.sustainablecomputing.eu/event/sabrina-kirrane-status-update-on-special/
END:VEVENT
BEGIN:VEVENT
DTSTART;TZID=UTC:20171115T160000
DTEND;TZID=UTC:20171115T180000
DTSTAMP:20260425T132442
CREATED:20171003T132339Z
LAST-MODIFIED:20171003T132339Z
UID:681-1510761600-1510768800@www.sustainablecomputing.eu
SUMMARY:Bernadette Kamleitner: Data Ownership
DESCRIPTION:
URL:https://www.sustainablecomputing.eu/event/bernadette-kamleitner-data-ownership/
LOCATION:Aaron Neo
END:VEVENT
BEGIN:VEVENT
DTSTART;TZID=UTC:20171109T120000
DTEND;TZID=UTC:20171109T160000
DTSTAMP:20260425T132442
CREATED:20171016T094701Z
LAST-MODIFIED:20171016T094701Z
UID:698-1510228800-1510243200@www.sustainablecomputing.eu
SUMMARY:Jeffrey Sachs: AI\, Ubiquitous Computing and the Question of Ethics
DESCRIPTION:
URL:https://www.sustainablecomputing.eu/event/jeffrey-sachs-ai-ubiquitous-computing-and-the-question-of-ethics/
END:VEVENT
BEGIN:VEVENT
DTSTART;TZID=UTC:20171016T120000
DTEND;TZID=UTC:20171016T140000
DTSTAMP:20260425T132442
CREATED:20171003T132250Z
LAST-MODIFIED:20171003T132250Z
UID:678-1508155200-1508162400@www.sustainablecomputing.eu
SUMMARY:Christiane Wendehorst: The ALI-ELI Principles for a Data Economy: Investment protection\, data protection\, and other challenges
DESCRIPTION:
URL:https://www.sustainablecomputing.eu/event/christiane-wendehorst-the-ali-eli-principles-for-a-data-economy-investment-protection-data-protection-and-other-challenges/
END:VEVENT
BEGIN:VEVENT
DTSTART;TZID=UTC:20171005T120000
DTEND;TZID=UTC:20171005T130000
DTSTAMP:20260425T132442
CREATED:20171003T131353Z
LAST-MODIFIED:20171003T131353Z
UID:667-1507204800-1507208400@www.sustainablecomputing.eu
SUMMARY:Christian Göbel: Scraping & online complaints platforms in China
DESCRIPTION:We look forward to a small lunch meeting on Thursday 5.10.2017 we’re organising about scraping online complaints platforms in China with Christian Göbel from the University of Vienna (http://christiangoebel.net/).\n\nChristian will be talking about web scraping in the context of a 5-year ERC project on complaint platforms in China and will be joined by Axel Polleres & Ben Wagner for lunch in the D2 lounge at 12:00 on Thursday 5.10.2017.\n\nAnyone who is interested in web scraping methods or studying authoritarian regimes online is very welcome to join the lunch meeting.
URL:https://www.sustainablecomputing.eu/event/scraping-online-complaints-platforms-in-china/
END:VEVENT
BEGIN:VEVENT
DTSTART;TZID=UTC:20161017T090000
DTEND;TZID=UTC:20161018T170000
DTSTAMP:20260425T132442
CREATED:20160524T154822Z
LAST-MODIFIED:20160524T154822Z
UID:78-1476694800-1476810000@www.sustainablecomputing.eu
SUMMARY:PrivOn2016 @ ISWC2016 - 4th International Workshop on Society\, Privacy and the Semantic Web - Policy and Technology
DESCRIPTION:
URL:https://www.sustainablecomputing.eu/event/privon2016-iswc2016-4th-international-workshop-on-society-privacy-and-the-semantic-web-policy-and-technology/
END:VEVENT
BEGIN:VEVENT
DTSTART;TZID=UTC:20160930T083000
DTEND;TZID=UTC:20160930T180000
DTSTAMP:20260425T132442
CREATED:20160524T154518Z
LAST-MODIFIED:20160524T154518Z
UID:76-1475224200-1475258400@www.sustainablecomputing.eu
SUMMARY:Lab Launch - Future Privacy & Data Protection in a Global Big Data World
DESCRIPTION:
URL:https://www.sustainablecomputing.eu/event/lab-launch-future-privacy-data-protection-in-a-global-big-data-world/
END:VEVENT
BEGIN:VEVENT
DTSTART;TZID=UTC:20160929T173000
DTEND;TZID=UTC:20160929T210000
DTSTAMP:20260425T132442
CREATED:20160524T154305Z
LAST-MODIFIED:20160524T154305Z
UID:74-1475170200-1475182800@www.sustainablecomputing.eu
SUMMARY:ITalks: Ethics & Value Based Design – Can we Create a Better Future?
DESCRIPTION:
URL:https://www.sustainablecomputing.eu/event/italks-ethics-value-based-design-can-we-create-a-better-future/
END:VEVENT
BEGIN:VEVENT
DTSTART;TZID=UTC:20160511T120000
DTEND;TZID=UTC:20160511T133000
DTSTAMP:20260425T132442
CREATED:20160524T154118Z
LAST-MODIFIED:20160524T154118Z
UID:4424-1462968000-1462973400@www.sustainablecomputing.eu
SUMMARY:Prof. Charles Ess - "Are Good Lives Possible in a (post-) Digital Era?"
DESCRIPTION:Abstract \nAre Good Lives Possible in a (post-) Digital Era? \nI begin with an account of our human interests in a good life as circumscribed by shared interests in contentment\, well-being\, and (self-) fulfillment in relationship with others. I then ask how such good lives might be possible vis-à-vis two concrete examples of contemporary ICT instantiations: (1) “smart technologies\,” including various forms of ambient intelligence and pre-emptive computing\, and (2) social robots\, specifically carebots and sexbots.  My larger argument – drawing in part on recent approaches to ethical ICT design\, including Spiekermann (2015) – is that lives of human flourishing and contentment remain possible in a post-digital era. To achieve these\, however\, requires that we as human beings pay greater attention to our embodied and relational lives\, so as to cultivate the skills and abilities (virtues) needed to sustain human autonomy vis-à-vis increasingly sophisticated technological environments and infrastructures designed to offload our agency in the names of economic efficiency and convenience. \nBio \nCharles Ess is Professor of Media Studies in the Department of Media and Communication at the University of Oslo\, Norway. He works at the intersections of philosophy\, computing\, applied ethics\, comparative philosophy\, and media studies\, with specific focus on research ethics\, Digital Religion\, and virtue ethics in media and communication\, specifically social robots. Recent publications include Digital Media Ethics (Polity Press\, 2009\, 2nd ed. 2013)\, (co-editor) The Handbook of Internet Studies (Wiley-Blackwell\, 2012)\, and ‘What’s love got to do with it? Robots\, sexuality\, and the arts of being human\,’ in M. Nørskov (ed.)\, Social Robots: Boundaries\, Potential\, Challenges\, 57–79 (Ashgate\, 2015). In 2015–16\, he was a fellow of the Research Group The Ethics of Copying at the Centre for Interdisciplinary Research (ZiF) in Bielefeld\, Germany.
URL:https://www.sustainablecomputing.eu/event/prof-charles-ess-are-good-lives-possible-in-a-post-digital-era/
END:VEVENT
END:VCALENDAR